BEGIN:VCALENDAR
VERSION:2.0
PRODID:-//Yanada - ECPv4.9.7//NONSGML v1.0//EN
CALSCALE:GREGORIAN
METHOD:PUBLISH
X-WR-CALNAME:Yanada
X-ORIGINAL-URL:https://yanada.com.au
X-WR-CALDESC:Events for Yanada
BEGIN:VTIMEZONE
TZID:"UTC"
BEGIN:STANDARD
TZOFFSETFROM:+0000
TZOFFSETTO:+0000
TZNAME:UTC
DTSTART:20210101T000000
END:STANDARD
END:VTIMEZONE
BEGIN:VEVENT
DTSTART;TZID="UTC":20210702T160000
DTEND;TZID="UTC":20210704T160000
DTSTAMP:20210226T045110
CREATED:20210202T064619Z
LAST-MODIFIED:20210202T064619Z
UID:80589-1625241600-1625414400@yanada.com.au
SUMMARY:Yoga Meditation and Lifestyle Retreat
DESCRIPTION:This Yoga Meditation and Lifestyle Retreat is designed to bring your life back into balance – Mind Body and Spirit.  It helps set foundations that encourage a balanced life and will lead you on the right track to health and wellness.  Join me for 2 days of relaxation\, restoration\, and re-balancing.  “To be your best self … Is self of balance”  \nContact Karen for more details:  0416 180 294 / KTuisamoa@hotmail.com \n
URL:https://yanada.com.au/retreat/yoga-meditation-and-lifestyle-retreat/
LOCATION:Yanada\, 1741 St Albans Road\, St Albans\, NSW\, 2775
ATTACH;FMTTYPE=image/jpeg:https://yanada.com.au/wp-content/uploads/2021/02/retreat-flyer.jpg
ORGANIZER;CN="Karen%20Tuisamoa":MAILTO:KTuisamoa@hotmail.com
END:VEVENT
END:VCALENDAR