BEGIN:VCALENDAR
VERSION:2.0
PRODID:-//Yanada - ECPv4.6.19//NONSGML v1.0//EN
CALSCALE:GREGORIAN
METHOD:PUBLISH
X-WR-CALNAME:Yanada
X-ORIGINAL-URL:http://yanada.com.au
X-WR-CALDESC:Events for Yanada
BEGIN:VEVENT
DTSTART;TZID=UTC+0:20190524T160000
DTEND;TZID=UTC+0:20190526T160000
DTSTAMP:20190227T223721
CREATED:20190130T210032Z
LAST-MODIFIED:20190130T210032Z
UID:68776-1558713600-1558886400@yanada.com.au
SUMMARY:Yoga from the inside
DESCRIPTION:This weekend is an opportunity to recover\, restore and rebalance. To touch the peace that is always within you\, not through striving to achieve\, but by being with and welcoming your experience just as it is. \nTaking this time out in a safe space\, amongst a community of like minded people to reconnect with what really matters most to you\, rather than trying to meet other people’s expectations\, will give you some perspective on life. \n
URL:http://yanada.com.au/retreat/yoga-from-the-inside/
LOCATION:1741 St Albans Road\, St Albans\, NSW\, 2775
ATTACH;FMTTYPE=image/jpeg:http://yanada.com.au/wp-content/uploads/2019/01/A-Weekend-of-Yoga-and-Meditation.jpg
END:VEVENT
END:VCALENDAR