BEGIN:VCALENDAR
VERSION:2.0
PRODID:-//Yanada - ECPv4.6.19//NONSGML v1.0//EN
CALSCALE:GREGORIAN
METHOD:PUBLISH
X-WR-CALNAME:Yanada
X-ORIGINAL-URL:http://yanada.com.au
X-WR-CALDESC:Events for Yanada
BEGIN:VEVENT
DTSTART;VALUE=DATE:20190517
DTEND;VALUE=DATE:20190520
DTSTAMP:20190227T223711
CREATED:20180718T123441Z
LAST-MODIFIED:20180718T123441Z
UID:68580-1558051200-1558310399@yanada.com.au
SUMMARY:Fraser Guthrie
DESCRIPTION:
URL:http://yanada.com.au/retreat/fraser-guthrie/
END:VEVENT
END:VCALENDAR