BEGIN:VCALENDAR
VERSION:2.0
PRODID:-//Yanada - ECPv4.6.19//NONSGML v1.0//EN
CALSCALE:GREGORIAN
METHOD:PUBLISH
X-WR-CALNAME:Yanada
X-ORIGINAL-URL:http://yanada.com.au
X-WR-CALDESC:Events for Yanada
BEGIN:VEVENT
DTSTART;VALUE=DATE:20190724
DTEND;VALUE=DATE:20190730
DTSTAMP:20190227T223731
CREATED:20180718T123524Z
LAST-MODIFIED:20180718T123549Z
UID:68582-1563926400-1564444799@yanada.com.au
SUMMARY:Danu Lynch
DESCRIPTION:
URL:http://yanada.com.au/retreat/danu-lynch/
END:VEVENT
END:VCALENDAR